BEGIN:VCALENDAR
VERSION:2.0
PRODID:-//Franklin County Saddle Club - ECPv6.15.20//NONSGML v1.0//EN
CALSCALE:GREGORIAN
METHOD:PUBLISH
X-ORIGINAL-URL:http://www.franklincountysaddleclub.org
X-WR-CALDESC:Events for Franklin County Saddle Club
REFRESH-INTERVAL;VALUE=DURATION:PT1H
X-Robots-Tag:noindex
X-PUBLISHED-TTL:PT1H
BEGIN:VTIMEZONE
TZID:America/Los_Angeles
BEGIN:DAYLIGHT
TZOFFSETFROM:-0800
TZOFFSETTO:-0700
TZNAME:PDT
DTSTART:20240310T100000
END:DAYLIGHT
BEGIN:STANDARD
TZOFFSETFROM:-0700
TZOFFSETTO:-0800
TZNAME:PST
DTSTART:20241103T090000
END:STANDARD
BEGIN:DAYLIGHT
TZOFFSETFROM:-0800
TZOFFSETTO:-0700
TZNAME:PDT
DTSTART:20250309T100000
END:DAYLIGHT
BEGIN:STANDARD
TZOFFSETFROM:-0700
TZOFFSETTO:-0800
TZNAME:PST
DTSTART:20251102T090000
END:STANDARD
BEGIN:DAYLIGHT
TZOFFSETFROM:-0800
TZOFFSETTO:-0700
TZNAME:PDT
DTSTART:20260308T100000
END:DAYLIGHT
BEGIN:STANDARD
TZOFFSETFROM:-0700
TZOFFSETTO:-0800
TZNAME:PST
DTSTART:20261101T090000
END:STANDARD
END:VTIMEZONE
BEGIN:VEVENT
DTSTART;VALUE=DATE:20250404
DTEND;VALUE=DATE:20250407
DTSTAMP:20260419T073519
CREATED:20250202T001650Z
LAST-MODIFIED:20250202T001650Z
UID:1283-1743724800-1743983999@www.franklincountysaddleclub.org
SUMMARY:Duel Dressage and Jumping 3 day clinic
DESCRIPTION:Format: Dressage in the morning\, Jumping in the afternoon. Sign up for as many days/sessions as you wish. Dressage only\, jumping only or a combination of dressage and jumping. \nCost: \nPrivate: 150.00/ride\, discounts offered for multiple rides \nSemi Private (2-3 riders): $125.00/ride\, discounts offered for multiple rides \n**All group sessions will be 2-3 riders of similar experience level \nAdditional fees: \nHaul in fee for non-members of FCSC: $5.00 \nStall rental: 20.00/day ** Must clean\, will have 10.00 additional fee if needs cleaned \n  \nLimited to 10 riders a day\, Reserve your spot today by contacting Jesstine at 509-987-8228 or email a copy of the sign up sheet to Jesstineyost@gmail.com \n  \nHere is the Sign Up Sheet: \nSarah Lawrence Clinic \n 
URL:http://www.franklincountysaddleclub.org/event/duel-dressage-and-jumping-3-day-clinic
LOCATION:FCSC Grounds\, 2801 N ROAD 60\, PASCO\, WA\, 99301\, United States
ATTACH;FMTTYPE=image/png:http://www.franklincountysaddleclub.org/wp-content/uploads/2025/02/Screenshot-2025-02-01-at-4.14.14 PM.png
END:VEVENT
BEGIN:VEVENT
DTSTART;VALUE=DATE:20250412
DTEND;VALUE=DATE:20250413
DTSTAMP:20260419T073519
CREATED:20211211T235809Z
LAST-MODIFIED:20250318T195751Z
UID:740-1744416000-1744502399@www.franklincountysaddleclub.org
SUMMARY:2024 FCSC Schooling Show
DESCRIPTION:Here we have our April Schooling Show\, schedule\, and entry form! \nApril 2025 Master Sheet 1
URL:http://www.franklincountysaddleclub.org/event/fcsc-schooling-show-1
LOCATION:FCSC Grounds\, 2801 N ROAD 60\, PASCO\, WA\, 99301\, United States
ATTACH;FMTTYPE=image/jpeg:http://www.franklincountysaddleclub.org/wp-content/uploads/2019/11/fcsc2.jpg
ORGANIZER;CN="Franklin County Saddle Club":MAILTO:fcsc@franklincountysaddleclub.org
END:VEVENT
END:VCALENDAR