BEGIN:VCALENDAR
VERSION:2.0
PRODID:-//Franklin County Saddle Club - ECPv6.15.20//NONSGML v1.0//EN
CALSCALE:GREGORIAN
METHOD:PUBLISH
X-WR-CALNAME:Franklin County Saddle Club
X-ORIGINAL-URL:http://www.franklincountysaddleclub.org
X-WR-CALDESC:Events for Franklin County Saddle Club
REFRESH-INTERVAL;VALUE=DURATION:PT1H
X-Robots-Tag:noindex
X-PUBLISHED-TTL:PT1H
BEGIN:VTIMEZONE
TZID:America/Los_Angeles
BEGIN:DAYLIGHT
TZOFFSETFROM:-0800
TZOFFSETTO:-0700
TZNAME:PDT
DTSTART:20250309T100000
END:DAYLIGHT
BEGIN:STANDARD
TZOFFSETFROM:-0700
TZOFFSETTO:-0800
TZNAME:PST
DTSTART:20251102T090000
END:STANDARD
BEGIN:DAYLIGHT
TZOFFSETFROM:-0800
TZOFFSETTO:-0700
TZNAME:PDT
DTSTART:20260308T100000
END:DAYLIGHT
BEGIN:STANDARD
TZOFFSETFROM:-0700
TZOFFSETTO:-0800
TZNAME:PST
DTSTART:20261101T090000
END:STANDARD
BEGIN:DAYLIGHT
TZOFFSETFROM:-0800
TZOFFSETTO:-0700
TZNAME:PDT
DTSTART:20270314T100000
END:DAYLIGHT
BEGIN:STANDARD
TZOFFSETFROM:-0700
TZOFFSETTO:-0800
TZNAME:PST
DTSTART:20271107T090000
END:STANDARD
END:VTIMEZONE
BEGIN:VEVENT
DTSTART;TZID=America/Los_Angeles:20261002T090000
DTEND;TZID=America/Los_Angeles:20261004T183000
DTSTAMP:20260422T073041
CREATED:20240210T005940Z
LAST-MODIFIED:20260112T183020Z
UID:1099-1790931600-1791138600@www.franklincountysaddleclub.org
SUMMARY:Steve Rother Horsemanship Clinic
DESCRIPTION:Check out The School of the Horse Clinic page for more detail. \nFor more information contact Cathy Ricard: (509)521-0886
URL:http://www.franklincountysaddleclub.org/event/https-schoolofhorse-com-event-pasco-wa-3-day-clinic-4
LOCATION:WA
CATEGORIES:FCSC Club Rental Events
ATTACH;FMTTYPE=image/jpeg:http://www.franklincountysaddleclub.org/wp-content/uploads/2024/02/Pasco-2.jpg
END:VEVENT
END:VCALENDAR