BEGIN:VCALENDAR
VERSION:2.0
PRODID:-//Franklin County Saddle Club - ECPv6.15.20//NONSGML v1.0//EN
CALSCALE:GREGORIAN
METHOD:PUBLISH
X-WR-CALNAME:Franklin County Saddle Club
X-ORIGINAL-URL:http://www.franklincountysaddleclub.org
X-WR-CALDESC:Events for Franklin County Saddle Club
REFRESH-INTERVAL;VALUE=DURATION:PT1H
X-Robots-Tag:noindex
X-PUBLISHED-TTL:PT1H
BEGIN:VTIMEZONE
TZID:America/Los_Angeles
BEGIN:DAYLIGHT
TZOFFSETFROM:-0800
TZOFFSETTO:-0700
TZNAME:PDT
DTSTART:20240310T100000
END:DAYLIGHT
BEGIN:STANDARD
TZOFFSETFROM:-0700
TZOFFSETTO:-0800
TZNAME:PST
DTSTART:20241103T090000
END:STANDARD
BEGIN:DAYLIGHT
TZOFFSETFROM:-0800
TZOFFSETTO:-0700
TZNAME:PDT
DTSTART:20250309T100000
END:DAYLIGHT
BEGIN:STANDARD
TZOFFSETFROM:-0700
TZOFFSETTO:-0800
TZNAME:PST
DTSTART:20251102T090000
END:STANDARD
BEGIN:DAYLIGHT
TZOFFSETFROM:-0800
TZOFFSETTO:-0700
TZNAME:PDT
DTSTART:20260308T100000
END:DAYLIGHT
BEGIN:STANDARD
TZOFFSETFROM:-0700
TZOFFSETTO:-0800
TZNAME:PST
DTSTART:20261101T090000
END:STANDARD
END:VTIMEZONE
BEGIN:VEVENT
DTSTART;VALUE=DATE:20250517
DTEND;VALUE=DATE:20250518
DTSTAMP:20260419T072836
CREATED:20250114T025800Z
LAST-MODIFIED:20250321T234443Z
UID:1276-1747440000-1747526399@www.franklincountysaddleclub.org
SUMMARY:Dressage Schooling Show
DESCRIPTION:CLASS FEES \nRegular Classes FCSC Members $20 \nRegular Classes Non-members $25Musical Freestyle/Pas de Deux $30 \nFor Walk/Trot Dressage & Western Dressage $5 (Qualifies for Walk/Trot-A-Thon) \nRides may not be scheduled in this order. For all classes\, please indicate test with entry. \nMiscellaneous Fees \nOffice/Grounds Fee (non-refundable) $5 \nHaul-in Fee (if not staying overnight) $5 \nStall – Per night – requires shavings – available at $10 per bale. $20 \nDry camp $15 \nRV Hook-up $25 \n  \nTotal Miscellaneous Fees \nDEADLINE FOR ENTRIES: WEDNESDAY May 14th\, 2025 \nPlease submit entries on time\, or even early. It’s a big help. \nRIDE TIMES WILL BE SENT VIA EMAIL ON Thursday\, May 15th\, 2024 PLEASE INCLUDE YOUR EMAIL ADDRESS ON THE ENTRY FORM. MAIL COMPLETED FORM AND CHECK (PAYABLE TO FCSC) TO: \nLaurie Tufford C/O FCSC PO Box 2885 Pasco\, WA 99302 \nQuestions/Contacts: Jesstine Yost 509-987-8228 \nHere is the Sign up form: \nEntry \nSchooling.docx
URL:http://www.franklincountysaddleclub.org/event/dressage-schooling-show-2
LOCATION:WA
ATTACH;FMTTYPE=image/jpeg:http://www.franklincountysaddleclub.org/wp-content/uploads/2025/01/imagejpeg_3.jpg
END:VEVENT
END:VCALENDAR